BEGIN:VCALENDAR
VERSION:2.0
PRODID:-//hacksw/handcal//NONSGML v1.0//EN
BEGIN:VEVENT
DTSTAMP:20250509T153000Z
DTSTART:20250509T153000Z
DTEND:20250509T153000Z
LOCATION:Spiel.Golf-Anlage in Flieden, Bornweg 4, Flieden, 36103, Deutschland
SUMMARY:Mitgliederversammlung und Stammtisch mit der CDU Flieden
END:VEVENT
END:VCALENDAR
