BEGIN:VCALENDAR
VERSION:2.0
PRODID:-//hacksw/handcal//NONSGML v1.0//EN
BEGIN:VEVENT
DTSTAMP:20250627T153000Z
DTSTART:20250627T153000Z
DTEND:20250627T153000Z
LOCATION:Gaststätte "Zentrum", Zentstraße 24, Flieden, 36103, Deutschland
SUMMARY:Stammtisch mit der CDU Flieden
END:VEVENT
END:VCALENDAR
