BEGIN:VCALENDAR
VERSION:2.0
PRODID:-//hacksw/handcal//NONSGML v1.0//EN
BEGIN:VEVENT
DTSTAMP:20250823T160000Z
DTSTART:20250823T160000Z
DTEND:20250823T160000Z
LOCATION:Gaststätte "Zum Grünen Baum", Rückers, Mittelstraße 9, Flieden, 36103, Deutschland
SUMMARY:Stammtisch mit der CDU Flieden
END:VEVENT
END:VCALENDAR
